BEGIN:VCALENDAR
VERSION:2.0
PRODID:-//Courage International, Inc. - ECPv6.15.19//NONSGML v1.0//EN
CALSCALE:GREGORIAN
METHOD:PUBLISH
X-WR-CALNAME:Courage International, Inc.
X-ORIGINAL-URL:https://couragerc.org
X-WR-CALDESC:Events for Courage International, Inc.
REFRESH-INTERVAL;VALUE=DURATION:PT1H
X-Robots-Tag:noindex
X-PUBLISHED-TTL:PT1H
BEGIN:VTIMEZONE
TZID:America/New_York
BEGIN:DAYLIGHT
TZOFFSETFROM:-0500
TZOFFSETTO:-0400
TZNAME:EDT
DTSTART:20250309T070000
END:DAYLIGHT
BEGIN:STANDARD
TZOFFSETFROM:-0400
TZOFFSETTO:-0500
TZNAME:EST
DTSTART:20251102T060000
END:STANDARD
BEGIN:DAYLIGHT
TZOFFSETFROM:-0500
TZOFFSETTO:-0400
TZNAME:EDT
DTSTART:20260308T070000
END:DAYLIGHT
BEGIN:STANDARD
TZOFFSETFROM:-0400
TZOFFSETTO:-0500
TZNAME:EST
DTSTART:20261101T060000
END:STANDARD
BEGIN:DAYLIGHT
TZOFFSETFROM:-0500
TZOFFSETTO:-0400
TZNAME:EDT
DTSTART:20270314T070000
END:DAYLIGHT
BEGIN:STANDARD
TZOFFSETFROM:-0400
TZOFFSETTO:-0500
TZNAME:EST
DTSTART:20271107T060000
END:STANDARD
END:VTIMEZONE
BEGIN:VEVENT
DTSTART;TZID=America/New_York:20260327T180000
DTEND;TZID=America/New_York:20260329T130000
DTSTAMP:20260421T095100
CREATED:20260128T132855Z
LAST-MODIFIED:20260203T162419Z
UID:146472-1774634400-1774789200@couragerc.org
SUMMARY:Courage & EnCourage Retreat
DESCRIPTION:[vc_row][vc_column width=”1/1″][vc_column_text uncode_shortcode_id=”277319″] \n\nMembers of the Courage & EnCourage family are invited to come together for a joyful weekend of prayer and fellowship on March 27 – March 29. \nFor pricing and registration\, please write to the Organizer email address below or call (205) 956-6760. \n\nVisit www.sisterservants.org for general information.[/vc_column_text][/vc_column][/vc_row]
URL:https://couragerc.org/event/courage-encourage-alabama-retreat/
LOCATION:Birmingham\, AL
CATEGORIES:Courage,EnCourage,Men,Retreats,Women
ATTACH;FMTTYPE=image/png:https://couragerc.org/wp-content/uploads/2026/01/2026-alabam-retreat.png
END:VEVENT
END:VCALENDAR