BEGIN:VCALENDAR
VERSION:2.0
PRODID:-//Courage International, Inc. - ECPv6.15.19//NONSGML v1.0//EN
CALSCALE:GREGORIAN
METHOD:PUBLISH
X-ORIGINAL-URL:https://couragerc.org
X-WR-CALDESC:Events for Courage International, Inc.
REFRESH-INTERVAL;VALUE=DURATION:PT1H
X-Robots-Tag:noindex
X-PUBLISHED-TTL:PT1H
BEGIN:VTIMEZONE
TZID:America/New_York
BEGIN:DAYLIGHT
TZOFFSETFROM:-0500
TZOFFSETTO:-0400
TZNAME:EDT
DTSTART:20240310T070000
END:DAYLIGHT
BEGIN:STANDARD
TZOFFSETFROM:-0400
TZOFFSETTO:-0500
TZNAME:EST
DTSTART:20241103T060000
END:STANDARD
BEGIN:DAYLIGHT
TZOFFSETFROM:-0500
TZOFFSETTO:-0400
TZNAME:EDT
DTSTART:20250309T070000
END:DAYLIGHT
BEGIN:STANDARD
TZOFFSETFROM:-0400
TZOFFSETTO:-0500
TZNAME:EST
DTSTART:20251102T060000
END:STANDARD
BEGIN:DAYLIGHT
TZOFFSETFROM:-0500
TZOFFSETTO:-0400
TZNAME:EDT
DTSTART:20260308T070000
END:DAYLIGHT
BEGIN:STANDARD
TZOFFSETFROM:-0400
TZOFFSETTO:-0500
TZNAME:EST
DTSTART:20261101T060000
END:STANDARD
END:VTIMEZONE
BEGIN:VEVENT
DTSTART;TZID=America/New_York:20251114T150000
DTEND;TZID=America/New_York:20251116T130000
DTSTAMP:20260421T084113
CREATED:20250917T174205Z
LAST-MODIFIED:20250917T174338Z
UID:146006-1763132400-1763298000@couragerc.org
SUMMARY:SoCal Courage & EnCourage Retreat
DESCRIPTION:This retreat will be a time of prayer and fellowship for both Courage and EnCourage brothers and sisters and will include daily Mass\, Confession\, Holy Hours\, the Liturgy of the Hours\, and inspirational talks.\nPlease contact the organizer email below for pricing and other details.\n 
URL:https://couragerc.org/event/socal-courage-encourage-retreat-2/
LOCATION:Southern California
CATEGORIES:Courage,EnCourage,Men,Retreats,Women
ATTACH;FMTTYPE=image/png:https://couragerc.org/wp-content/uploads/2025/09/California.png
END:VEVENT
END:VCALENDAR