BEGIN:VCALENDAR
VERSION:2.0
PRODID:-//Courage International, Inc. - ECPv6.15.19//NONSGML v1.0//EN
CALSCALE:GREGORIAN
METHOD:PUBLISH
X-WR-CALNAME:Courage International, Inc.
X-ORIGINAL-URL:https://couragerc.org
X-WR-CALDESC:Events for Courage International, Inc.
REFRESH-INTERVAL;VALUE=DURATION:PT1H
X-Robots-Tag:noindex
X-PUBLISHED-TTL:PT1H
BEGIN:VTIMEZONE
TZID:America/New_York
BEGIN:DAYLIGHT
TZOFFSETFROM:-0500
TZOFFSETTO:-0400
TZNAME:EDT
DTSTART:20230312T070000
END:DAYLIGHT
BEGIN:STANDARD
TZOFFSETFROM:-0400
TZOFFSETTO:-0500
TZNAME:EST
DTSTART:20231105T060000
END:STANDARD
BEGIN:DAYLIGHT
TZOFFSETFROM:-0500
TZOFFSETTO:-0400
TZNAME:EDT
DTSTART:20240310T070000
END:DAYLIGHT
BEGIN:STANDARD
TZOFFSETFROM:-0400
TZOFFSETTO:-0500
TZNAME:EST
DTSTART:20241103T060000
END:STANDARD
BEGIN:DAYLIGHT
TZOFFSETFROM:-0500
TZOFFSETTO:-0400
TZNAME:EDT
DTSTART:20250309T070000
END:DAYLIGHT
BEGIN:STANDARD
TZOFFSETFROM:-0400
TZOFFSETTO:-0500
TZNAME:EST
DTSTART:20251102T060000
END:STANDARD
END:VTIMEZONE
BEGIN:VEVENT
DTSTART;TZID=America/New_York:20241005T093000
DTEND;TZID=America/New_York:20241005T150000
DTSTAMP:20260421T064732
CREATED:20240905T163141Z
LAST-MODIFIED:20240906T132522Z
UID:144629-1728120600-1728140400@couragerc.org
SUMMARY:Northeast Day of Recollection
DESCRIPTION:[vc_row][vc_column width=”1/1″][vc_column_text uncode_shortcode_id=”392606″] \nPlease join us on this special day in which Courage and EnCourage members will gather for prayer\, reflection\, and fellowship\, beginning with Holy Mass which will be followed by a presentation by Fr. Michael Englert OFM Conv.\nLunch and coffee/tea will be provided.\nPlease contact the organizer email address below for additional information on cost and registration.\n[/vc_column_text][/vc_column][/vc_row]
URL:https://couragerc.org/event/northeast-day-of-recollection/
CATEGORIES:Courage,Day of Recollection,EnCourage,Men,Women
ATTACH;FMTTYPE=image/png:https://couragerc.org/wp-content/uploads/2024/09/CT-northeast-Day-of-Recollection-2.png
END:VEVENT
END:VCALENDAR