BEGIN:VCALENDAR
VERSION:2.0
PRODID:-//Courage International, Inc. - ECPv6.15.19//NONSGML v1.0//EN
CALSCALE:GREGORIAN
METHOD:PUBLISH
X-WR-CALNAME:Courage International, Inc.
X-ORIGINAL-URL:https://couragerc.org
X-WR-CALDESC:Events for Courage International, Inc.
REFRESH-INTERVAL;VALUE=DURATION:PT1H
X-Robots-Tag:noindex
X-PUBLISHED-TTL:PT1H
BEGIN:VTIMEZONE
TZID:America/New_York
BEGIN:DAYLIGHT
TZOFFSETFROM:-0500
TZOFFSETTO:-0400
TZNAME:EDT
DTSTART:20230312T070000
END:DAYLIGHT
BEGIN:STANDARD
TZOFFSETFROM:-0400
TZOFFSETTO:-0500
TZNAME:EST
DTSTART:20231105T060000
END:STANDARD
BEGIN:DAYLIGHT
TZOFFSETFROM:-0500
TZOFFSETTO:-0400
TZNAME:EDT
DTSTART:20240310T070000
END:DAYLIGHT
BEGIN:STANDARD
TZOFFSETFROM:-0400
TZOFFSETTO:-0500
TZNAME:EST
DTSTART:20241103T060000
END:STANDARD
BEGIN:DAYLIGHT
TZOFFSETFROM:-0500
TZOFFSETTO:-0400
TZNAME:EDT
DTSTART:20250309T070000
END:DAYLIGHT
BEGIN:STANDARD
TZOFFSETFROM:-0400
TZOFFSETTO:-0500
TZNAME:EST
DTSTART:20251102T060000
END:STANDARD
END:VTIMEZONE
BEGIN:VEVENT
DTSTART;TZID=America/New_York:20240314T160000
DTEND;TZID=America/New_York:20240317T140000
DTSTAMP:20260421T082252
CREATED:20240124T170832Z
LAST-MODIFIED:20240124T173702Z
UID:143535-1710432000-1710684000@couragerc.org
SUMMARY:Courage Women's Retreat
DESCRIPTION:Join us for a fun retreat with depth and hope.\nSpend time with God and with your sisters in Christ.\nShare your heart and mind in a prayerful and relaxing atmosphere.\nEnjoy laughter and good fellowship with understanding friends!\nOur Chaplain will be Fr. Philip Bochanski\nCost: $265\nPlease contact the organizer email address below for more information
URL:https://couragerc.org/event/courage-womens-retreat/
LOCATION:Western Pennsylvania
CATEGORIES:Courage,Retreats,Women
ATTACH;FMTTYPE=image/png:https://couragerc.org/wp-content/uploads/2018/01/2-2024-Womens-retreat.png
END:VEVENT
END:VCALENDAR