BEGIN:VCALENDAR
VERSION:2.0
PRODID:-//Courage International, Inc. - ECPv6.15.19//NONSGML v1.0//EN
CALSCALE:GREGORIAN
METHOD:PUBLISH
X-ORIGINAL-URL:https://couragerc.org
X-WR-CALDESC:Events for Courage International, Inc.
REFRESH-INTERVAL;VALUE=DURATION:PT1H
X-Robots-Tag:noindex
X-PUBLISHED-TTL:PT1H
BEGIN:VTIMEZONE
TZID:America/New_York
BEGIN:DAYLIGHT
TZOFFSETFROM:-0500
TZOFFSETTO:-0400
TZNAME:EDT
DTSTART:20220313T070000
END:DAYLIGHT
BEGIN:STANDARD
TZOFFSETFROM:-0400
TZOFFSETTO:-0500
TZNAME:EST
DTSTART:20221106T060000
END:STANDARD
BEGIN:DAYLIGHT
TZOFFSETFROM:-0500
TZOFFSETTO:-0400
TZNAME:EDT
DTSTART:20230312T070000
END:DAYLIGHT
BEGIN:STANDARD
TZOFFSETFROM:-0400
TZOFFSETTO:-0500
TZNAME:EST
DTSTART:20231105T060000
END:STANDARD
BEGIN:DAYLIGHT
TZOFFSETFROM:-0500
TZOFFSETTO:-0400
TZNAME:EDT
DTSTART:20240310T070000
END:DAYLIGHT
BEGIN:STANDARD
TZOFFSETFROM:-0400
TZOFFSETTO:-0500
TZNAME:EST
DTSTART:20241103T060000
END:STANDARD
END:VTIMEZONE
BEGIN:VEVENT
DTSTART;TZID=America/New_York:20230316T160000
DTEND;TZID=America/New_York:20230319T140000
DTSTAMP:20260422T120055
CREATED:20230124T164203Z
LAST-MODIFIED:20230130T161758Z
UID:138259-1678982400-1679234400@couragerc.org
SUMMARY:Courage Women's Spring Retreat 2023
DESCRIPTION:Join us for a fun retreat with depth and hope.\nSpend time with God and with your sisters in Christ.\nShare your heart and mind in a prayerful and relaxing atmosphere.\nEnjoy laughter and good fellowship with understanding friends! \nThe Courage Women’s Retreat will include Adoration\, Confession\, Mass\, edifying talks by fellow Courage members and by our Chaplain\, Stations of the Cross\, group discussions\, campfires\, a Courage meeting\, and an opportunity to develop good\, lasting friendships. \nOur Retreat Chaplain will be Fr. Raphael Mary Salzillo\, OP.\, Courage Women’s Online Chaplain and Courage Board Member. \nFor more information\, please write to the Organizer email address below.
URL:https://couragerc.org/event/courage-womens-spring-retreat-2023/
LOCATION:Southwestern Pennsylvania
CATEGORIES:Courage,Retreats,Women
ATTACH;FMTTYPE=image/png:https://couragerc.org/wp-content/uploads/2023/01/2-Courage-womens-reatreat-2023-2.png
END:VEVENT
END:VCALENDAR