BEGIN:VCALENDAR
VERSION:2.0
PRODID:-//Courage International, Inc. - ECPv6.15.19//NONSGML v1.0//EN
CALSCALE:GREGORIAN
METHOD:PUBLISH
X-ORIGINAL-URL:https://couragerc.org
X-WR-CALDESC:Events for Courage International, Inc.
REFRESH-INTERVAL;VALUE=DURATION:PT1H
X-Robots-Tag:noindex
X-PUBLISHED-TTL:PT1H
BEGIN:VTIMEZONE
TZID:America/New_York
BEGIN:DAYLIGHT
TZOFFSETFROM:-0500
TZOFFSETTO:-0400
TZNAME:EDT
DTSTART:20220313T070000
END:DAYLIGHT
BEGIN:STANDARD
TZOFFSETFROM:-0400
TZOFFSETTO:-0500
TZNAME:EST
DTSTART:20221106T060000
END:STANDARD
BEGIN:DAYLIGHT
TZOFFSETFROM:-0500
TZOFFSETTO:-0400
TZNAME:EDT
DTSTART:20230312T070000
END:DAYLIGHT
BEGIN:STANDARD
TZOFFSETFROM:-0400
TZOFFSETTO:-0500
TZNAME:EST
DTSTART:20231105T060000
END:STANDARD
BEGIN:DAYLIGHT
TZOFFSETFROM:-0500
TZOFFSETTO:-0400
TZNAME:EDT
DTSTART:20240310T070000
END:DAYLIGHT
BEGIN:STANDARD
TZOFFSETFROM:-0400
TZOFFSETTO:-0500
TZNAME:EST
DTSTART:20241103T060000
END:STANDARD
END:VTIMEZONE
BEGIN:VEVENT
DTSTART;TZID=America/New_York:20230304T090000
DTEND;TZID=America/New_York:20230304T143000
DTSTAMP:20260422T120142
CREATED:20230103T170457Z
LAST-MODIFIED:20230123T191745Z
UID:138158-1677920400-1677940200@couragerc.org
SUMMARY:Courage & EnCourage Day of Recollection
DESCRIPTION:[vc_row][vc_column width=”1/1″][vc_column_text] \n\n\n\n\nSchedule\n9:00 AM\nGather/Register; Coffee & Donuts \n9:15 AM\nWelcome & Introduction \n9:30 AM\nKeynote Talk\, Fr. Emmerich Vogt\, OP “Charity as the Love of Friendship” \nFr. Emmerich is a priest of the Holy Name Province of the Dominican Order and is currently the Director of the Saint Jude Shrine at St. Dominic’s Church\, San Francisco\, while also ministering with Western Dominican Preaching. For the past forty years he has been involved in giving retreats and seminars to Mother Teresa’s Priests and Sisters in Mexico\, Poland\, Guatemala\, Uruquay\, Calcutta\, Madagascar\, Russia\, and Africa. He currently resides at St. Dominic Priory in San Francisco. \n10:15 AM\nConfessions Available \n11:15 AM\nCelebration of Mass \n12:00 PM\nLunch \n1:00 PM\nQ&A\, Small Courage/Encourage Meetings \n2:00 PM\nDivine Mercy Chaplet & Conclusion \n\n\n\n\n\n\n\n\n**A Free-Will Offering will be taken to off-set the costs of the day** \nView and download the flyer for this event here.\nFor purposes of food and planning\,\nplease RSVP VIA EMAIL by February 21\, 2023\nat Organizer email below.\n\n\n\n\n[/vc_column_text][/vc_column][/vc_row]
URL:https://couragerc.org/event/courage-encourage-day-of-recollection-2/
LOCATION:St. Isaac Jogues Parish\, 50 W. Walker Road\, Wayne\, PA\, 19087\, United States
CATEGORIES:Courage,Day of Recollection,EnCourage
ATTACH;FMTTYPE=image/png:https://couragerc.org/wp-content/uploads/2018/01/Save-the-Date-CourageEncourage-.png
END:VEVENT
END:VCALENDAR