BEGIN:VCALENDAR
VERSION:2.0
PRODID:-//Courage International, Inc. - ECPv6.15.19//NONSGML v1.0//EN
CALSCALE:GREGORIAN
METHOD:PUBLISH
X-WR-CALNAME:Courage International, Inc.
X-ORIGINAL-URL:https://couragerc.org
X-WR-CALDESC:Events for Courage International, Inc.
REFRESH-INTERVAL;VALUE=DURATION:PT1H
X-Robots-Tag:noindex
X-PUBLISHED-TTL:PT1H
BEGIN:VTIMEZONE
TZID:America/Los_Angeles
BEGIN:DAYLIGHT
TZOFFSETFROM:-0800
TZOFFSETTO:-0700
TZNAME:PDT
DTSTART:20210314T100000
END:DAYLIGHT
BEGIN:STANDARD
TZOFFSETFROM:-0700
TZOFFSETTO:-0800
TZNAME:PST
DTSTART:20211107T090000
END:STANDARD
BEGIN:DAYLIGHT
TZOFFSETFROM:-0800
TZOFFSETTO:-0700
TZNAME:PDT
DTSTART:20220313T100000
END:DAYLIGHT
BEGIN:STANDARD
TZOFFSETFROM:-0700
TZOFFSETTO:-0800
TZNAME:PST
DTSTART:20221106T090000
END:STANDARD
BEGIN:DAYLIGHT
TZOFFSETFROM:-0800
TZOFFSETTO:-0700
TZNAME:PDT
DTSTART:20230312T100000
END:DAYLIGHT
BEGIN:STANDARD
TZOFFSETFROM:-0700
TZOFFSETTO:-0800
TZNAME:PST
DTSTART:20231105T090000
END:STANDARD
END:VTIMEZONE
BEGIN:VEVENT
DTSTART;TZID=America/Los_Angeles:20221209T160000
DTEND;TZID=America/Los_Angeles:20221211T123000
DTSTAMP:20260421T064706
CREATED:20221005T023516Z
LAST-MODIFIED:20221005T183545Z
UID:137435-1670601600-1670761800@couragerc.org
SUMMARY:Southern California Courage-EnCourage Retreat
DESCRIPTION:This retreat will be a time of prayer and fellowship for both Courage and EnCourage brothers and sisters as we nourish our minds\, bodies\, and souls with daily Mass\, Confession\, Holy Hours\, the Liturgy of the Hours\, and inspirational talks.\nPlease read the flyer for pricing and other details.\nRegistration forms are now available. Please send an email to the organizer address below and request a registration form\, or let us know if you have any questions.\nRegistration form and payment must be received by Friday\, November 25\, 2022.
URL:https://couragerc.org/event/southern-california-courage-encourage-retreat/
LOCATION:Southern California
CATEGORIES:Courage,EnCourage,Retreats
ATTACH;FMTTYPE=image/png:https://couragerc.org/wp-content/uploads/2018/01/Dec-So-Cal-Retreat.png
END:VEVENT
END:VCALENDAR